Workbook

Sheet TAR
A1: TAR - 2011 MPB Update
A2: Area (ha) of MPB Attack Severity by Age Class and Density within Pine Stands (Pine Species >= 30% density - The Pine Mask)
A3: TSA Area | B3: 1389074.4
A4: Pine Mask Unharvested Area | B4: =SUM(data!D2:D200) -> 129229.97
A6: MPB Attack as a percentage of Pine affected within the VRI Stand
A8: MPB Attack Severity
C9: Light (<11%) | E9: Moderate (11-30%) | G9: Severe (31-50%) | I9: Very Severe (>50%) | K9: All Severity | M9: No Attack
A10: Age Class | B10: Pine Density | C10: Area (ha) | D10: Percent of all Pine (Pine Mask) | E10: Area (ha) | F10: Percent of all Pine (Pine Mask) | G10: Area (ha) | H10: Percent of all Pine (Pine Mask) | I10: Area (ha) | J10: Percent of all Pine (Pine Mask) | K10: Total Area of Attack (ha) | L10: Percent of all Pine (Pine Mask) | M10: Area (ha) | N10: Percent of all Pine (Pine Mask)
A11: 21-40 years | B11: 30-70% | C11: {=SUM(IF(data!A2:A200="21-40 years",IF(data!B2:B200="30-70%",IF(data!C2:C200="Light (<11%)",data!D2:D200,0),0),0))} -> 831.74605 | D11: =C11/($K$20+$M$20) -> 0.0067532326 | E11: {=SUM(IF(data!A2:A200="21-40 years",IF(data!B2:B200="30-70%",IF(data!C2:C200="Moderate (11-30%)",data!D2:D200,0),0),0))} -> 1000.8972 | F11: =E11/($K$20+$M$20) -> 0.0081266289 | G11: {=SUM(IF(data!A2:A200="21-40 years",IF(data!B2:B200="30-70%",IF(data!C2:C200="Severe (31-50%)",data!D2:D200,0),0),0))} -> 193.07553 | H11: =G11/($K$20+$M$20) -> 0.0015676467 | I11: {=SUM(IF(data!A2:A200="21-40 years",IF(data!B2:B200="30-70%",IF(data!C2:C200="Very Severe (>50%)",data!D2:D200,0),0),0))} -> 365.65354 | J11: =I11/($K$20+$M$20) -> 0.002968867 | K11: =SUM(C11,E11,G11,I11) -> 2391.3723 | L11: =K11/($K$20+$M$20) -> 0.019416375 | M11: {=SUM(IF(data!A2:A200="21-40 years",IF(data!B2:B200="30-70%",IF(data!C2:C200="No Attack",data!D2:D200,0),0),0))} -> 2706.8943 | N11: =M11/($K$20+$M$20) -> 0.021978207
B12: >70% | C12: {=SUM(IF(data!A2:A200="21-40 years",IF(data!B2:B200=">70%",IF(data!C2:C200="Light (<11%)",data!D2:D200,0),0),0))} -> 388.04573 | D12: =C12/($K$20+$M$20) -> 0.0031506769 | E12: {=SUM(IF(data!A2:A200="21-40 years",IF(data!B2:B200=">70%",IF(data!C2:C200="Moderate (11-30%)",data!D2:D200,0),0),0))} -> 171.95769 | F12: =E12/($K$20+$M$20) -> 0.0013961837 | G12: {=SUM(IF(data!A2:A200="21-40 years",IF(data!B2:B200=">70%",IF(data!C2:C200="Severe (31-50%)",data!D2:D200,0),0),0))} -> 127.73047 | H12: =G12/($K$20+$M$20) -> 0.0010370876 | I12: {=SUM(IF(data!A2:A200="21-40 years",IF(data!B2:B200=">70%",IF(data!C2:C200="Very Severe (>50%)",data!D2:D200,0),0),0))} -> 234.01653 | J12: =I12/($K$20+$M$20) -> 0.0019000608 | K12: =SUM(C12,E12,G12,I12) -> 921.75042 | L12: =K12/($K$20+$M$20) -> 0.007484009 | M12: {=SUM(IF(data!A2:A200="21-40 years",IF(data!B2:B200=">70%",IF(data!C2:C200="No Attack",data!D2:D200,0),0),0))} -> 827.68696 | N12: =M12/($K$20+$M$20) -> 0.0067202754
A14: 41-60 years | B14: 30-70% | C14: {=SUM(IF(data!A2:A200="41-60 years",IF(data!B2:B200="30-70%",IF(data!C2:C200="Light (<11%)",data!D2:D200,0),0),0))} -> 157.14117 | D14: =C14/($K$20+$M$20) -> 0.0012758833 | E14: {=SUM(IF(data!A2:A200="41-60 years",IF(data!B2:B200="30-70%",IF(data!C2:C200="Moderate (11-30%)",data!D2:D200,0),0),0))} -> 293.94607 | F14: =E14/($K$20+$M$20) -> 0.0023866494 | G14: {=SUM(IF(data!A2:A200="41-60 years",IF(data!B2:B200="30-70%",IF(data!C2:C200="Severe (31-50%)",data!D2:D200,0),0),0))} -> 50.474915 | H14: =G14/($K$20+$M$20) -> 0.00040982322 | I14: {=SUM(IF(data!A2:A200="41-60 years",IF(data!B2:B200="30-70%",IF(data!C2:C200="Very Severe (>50%)",data!D2:D200,0),0),0))} -> 249.20592 | J14: =I14/($K$20+$M$20) -> 0.0020233887 | K14: =SUM(C14,E14,G14,I14) -> 750.76808 | L14: =K14/($K$20+$M$20) -> 0.0060957446 | M14: {=SUM(IF(data!A2:A200="41-60 years",IF(data!B2:B200="30-70%",IF(data!C2:C200="No Attack",data!D2:D200,0),0),0))} -> 985.45003 | N14: =M14/($K$20+$M$20) -> 0.0080012081
B15: >70% | C15: {=SUM(IF(data!A2:A200="41-60 years",IF(data!B2:B200=">70%",IF(data!C2:C200="Light (<11%)",data!D2:D200,0),0),0))} -> 265.70267 | D15: =C15/($K$20+$M$20) -> 0.0021573314 | E15: {=SUM(IF(data!A2:A200="41-60 years",IF(data!B2:B200=">70%",IF(data!C2:C200="Moderate (11-30%)",data!D2:D200,0),0),0))} -> 163.17391 | F15: =E15/($K$20+$M$20) -> 0.0013248652 | G15: {=SUM(IF(data!A2:A200="41-60 years",IF(data!B2:B200=">70%",IF(data!C2:C200="Severe (31-50%)",data!D2:D200,0),0),0))} -> 129.94868 | H15: =G15/($K$20+$M$20) -> 0.0010550981 | I15: {=SUM(IF(data!A2:A200="41-60 years",IF(data!B2:B200=">70%",IF(data!C2:C200="Very Severe (>50%)",data!D2:D200,0),0),0))} -> 244.02267 | J15: =I15/($K$20+$M$20) -> 0.0019813041 | K15: =SUM(C15,E15,G15,I15) -> 802.84793 | L15: =K15/($K$20+$M$20) -> 0.0065185988 | M15: {=SUM(IF(data!A2:A200="41-60 years",IF(data!B2:B200=">70%",IF(data!C2:C200="No Attack",data!D2:D200,0),0),0))} -> 579.82763 | N15: =M15/($K$20+$M$20) -> 0.0047078202
A17: >60 years | B17: 30-70% | C17: {=SUM(IF(data!A2:A200=">60 years",IF(data!B2:B200="30-70%",IF(data!C2:C200="Light (<11%)",data!D2:D200,0),0),0))} -> 7005.9421 | D17: =C17/($K$20+$M$20) -> 0.056883657 | E17: {=SUM(IF(data!A2:A200=">60 years",IF(data!B2:B200="30-70%",IF(data!C2:C200="Moderate (11-30%)",data!D2:D200,0),0),0))} -> 9337.9736 | F17: =E17/($K$20+$M$20) -> 0.075818223 | G17: {=SUM(IF(data!A2:A200=">60 years",IF(data!B2:B200="30-70%",IF(data!C2:C200="Severe (31-50%)",data!D2:D200,0),0),0))} -> 9244.0621 | H17: =G17/($K$20+$M$20) -> 0.075055723 | I17: {=SUM(IF(data!A2:A200=">60 years",IF(data!B2:B200="30-70%",IF(data!C2:C200="Very Severe (>50%)",data!D2:D200,0),0),0))} -> 25922.061 | J17: =I17/($K$20+$M$20) -> 0.21047014 | K17: =SUM(C17,E17,G17,I17) -> 51510.038 | L17: =K17/($K$20+$M$20) -> 0.41822774 | M17: {=SUM(IF(data!A2:A200=">60 years",IF(data!B2:B200="30-70%",IF(data!C2:C200="No Attack",data!D2:D200,0),0),0))} -> 22092.595 | N17: =M17/($K$20+$M$20) -> 0.17937739
B18: >70% | C18: {=SUM(IF(data!A2:A200=">60 years",IF(data!B2:B200=">70%",IF(data!C2:C200="Light (<11%)",data!D2:D200,0),0),0))} -> 3027.1149 | D18: =C18/($K$20+$M$20) -> 0.024578188 | E18: {=SUM(IF(data!A2:A200=">60 years",IF(data!B2:B200=">70%",IF(data!C2:C200="Moderate (11-30%)",data!D2:D200,0),0),0))} -> 4032.2237 | F18: =E18/($K$20+$M$20) -> 0.032739012 | G18: {=SUM(IF(data!A2:A200=">60 years",IF(data!B2:B200=">70%",IF(data!C2:C200="Severe (31-50%)",data!D2:D200,0),0),0))} -> 5374.3112 | H18: =G18/($K$20+$M$20) -> 0.043635883 | I18: {=SUM(IF(data!A2:A200=">60 years",IF(data!B2:B200=">70%",IF(data!C2:C200="Very Severe (>50%)",data!D2:D200,0),0),0))} -> 19799.153 | J18: =I18/($K$20+$M$20) -> 0.16075614 | K18: =SUM(C18,E18,G18,I18) -> 32232.802 | L18: =K18/($K$20+$M$20) -> 0.26170922 | M18: {=SUM(IF(data!A2:A200=">60 years",IF(data!B2:B200=">70%",IF(data!C2:C200="No Attack",data!D2:D200,0),0),0))} -> 7360.621 | N18: =M18/($K$20+$M$20) -> 0.059763417
A20: Total | C20: =SUM(C11:C18) -> 11675.693 | D20: =C20/($K$20+$M$20) -> 0.094798969 | E20: =SUM(E11:E18) -> 15000.172 | F20: =E20/($K$20+$M$20) -> 0.12179156 | G20: =SUM(G11:G18) -> 15119.603 | H20: =G20/($K$20+$M$20) -> 0.12276126 | I20: =SUM(I11:I18) -> 46814.112 | J20: =I20/($K$20+$M$20) -> 0.38009989 | K20: =SUM(K11:K18) -> 88609.579 | L20: =SUM(L11:L18) -> 0.71945169 | M20: =SUM(M11:M18) -> 34553.075 | N20: =SUM(N11:N18) -> 0.28054831

Sheet data
A1: Age Class | B1: Pine Density | C1: MPB Attack Severity | D1: Sum Of area_ha
A2: <21 years | B2: >70% | C2: Light (<11%) | D2: 61.622132
A3: <21 years | B3: >70% | C3: Light (<11%) | D3: 308.31168
A4: <21 years | B4: >70% | C4: Moderate (11-30%) | D4: 31.562091
A5: <21 years | B5: >70% | C5: Moderate (11-30%) | D5: 222.89182
A6: <21 years | B6: >70% | C6: No Attack | D6: 455.74759
A7: <21 years | B7: >70% | C7: No Attack | D7: 3.834719
A8: <21 years | B8: >70% | C8: No Attack | D8: 85.85075
A9: <21 years | B9: >70% | C9: Severe (31-50%) | D9: 39.715006
A10: <21 years | B10: >70% | C10: Severe (31-50%) | D10: 23.016464
A11: <21 years | B11: >70% | C11: Very Severe (>50%) | D11: 1.0553355
A12: <21 years | B12: >70% | C12: Very Severe (>50%) | D12: 54.026751
A13: <21 years | B13: 30-70% | C13: Light (<11%) | D13: 124.25938
... A102: 41-60 years | B102: 30-70% | C102: Very Severe (>50%) | D102: 8.4794975

Sheet Sheet3
